BEGIN:VCALENDAR
VERSION:2.0
PRODID:-//wp-events-plugin.com//7.2.3.1//EN
TZID:Europe/Madrid
X-WR-TIMEZONE:Europe/Madrid
BEGIN:VEVENT
UID:546@aragonsolidario.org
DTSTART;TZID=Europe/Madrid;VALUE=DATE:20251210
DTEND;TZID=Europe/Madrid;VALUE=DATE:20260118
DTSTAMP:20251201T111614Z
URL:https://aragonsolidario.org/eventos/exposicion-cine-ropa-limpia
SUMMARY:Exposición "Tejiendo conciencia. Rompiendo patrones de la industri
 a textil" y Cine-Fórum\, por Campaña Ropa Limpia
DESCRIPTION:La Fundación Isabel Martín sigue impulsando la Campaña Ropa 
 Limpia (CRL)\, que persigue mejorar las condiciones laborales y empoderar 
 a las personas que trabajan en la industria global de la confección. En E
 uropa está activa en 17 países. En España\, la iniciativa está coordin
 ada por SETEM\, con la cofinanciación por parte de nuestra ONG desde 2017
 . En colaboración con Fundación CAI\, presentamos en Zaragoza dos activi
 dades:\n\n 	\nExposición “Tejiendo Conciencia” del 10 de diciembre de
  2025 al 17 de enero del 2026:\nUna muestra que invita a reflexionar sobre
  los patrones ocultos de la industria textil y las condiciones laborales d
 etrás de nuestras prendas.\n 	\nProyección documental “Ropa Sucia” y
  cine-fórum el 14 de enero 2026: Contaremos con la participación de Fél
 ix Zurita de Higes\, director del documental y José Luis Mariñelarena\, 
 coordinador de la Campaña Ropa Limpia en España.\n\nFECHAS Y HORAS:\n\n\
 n 	\nExposición “Tejiendo Conciencia” del 10 de diciembre de 2025 al 
 17 de enero del 2026 en horario de lunes a sábados de 9:00 a 14:00 y de 1
 7:00 a 20:00.\n 	\nCine-Fórum el 14 de enero 2026 de 18:30 a 20:00\n\n\nh
 ttps://www.fundacioncai.es/act/exposicion-tejiendo-conciencia-rompiendo-pa
 trones-de-la-industria-textil-fundacion-isabel-martin\n\n\n\n&nbsp\;
ATTACH;FMTTYPE=image/jpeg:https://aragonsolidario.org/wp-content/uploads/2
 025/12/EXPO-TEJIENDO-CONCIENCIA-Y-CINE-FORUM_crl.webp
CATEGORIES:ONGD FAS
LOCATION:Centro Joaquín Roncal\, C. de San Braulio\, 5\, Zaragoza\, 50003\
 , España
GEO:41.654686;-0.879386
X-APPLE-STRUCTURED-LOCATION;VALUE=URI;X-ADDRESS=C. de San Braulio\, 5\, Zar
 agoza\, 50003\, España;X-APPLE-RADIUS=100;X-TITLE=Centro Joaquín Roncal:
 geo:41.654686,-0.879386
END:VEVENT
BEGIN:VTIMEZONE
TZID:Europe/Madrid
X-LIC-LOCATION:Europe/Madrid
BEGIN:STANDARD
DTSTART:20251026T020000
TZOFFSETFROM:+0200
TZOFFSETTO:+0100
TZNAME:CET
END:STANDARD
END:VTIMEZONE
END:VCALENDAR