BEGIN:VCALENDAR
VERSION:2.0
PRODID:-//wp-events-plugin.com//7.2.3.1//EN
TZID:Europe/Madrid
X-WR-TIMEZONE:Europe/Madrid
BEGIN:VEVENT
UID:110@aragonsolidario.org
DTSTART;TZID=Europe/Madrid;VALUE=DATE:20230511
DTEND;TZID=Europe/Madrid;VALUE=DATE:20230604
DTSTAMP:20230601T105719Z
URL:https://aragonsolidario.org/eventos/exposicion-26-premio-fotografia-hu
 manitaria-luis-valtuena
SUMMARY:Exposición "XXVI Premio Internacional de Fotografía Humanitaria L
 uis Valtueña"
DESCRIPTION:Organizada por Médicos del Mundo del 11 de mayo hasta el 3 de 
 junio de 2023 en el Centro Joaquín Roncal de la Fundación CAI.\n\nGanado
 ra: María Clauss\nFinalistas: Santi Palacios\, Nazik Armenakyan y Federic
 o Ríos\nMención especial: Shashenka Gutiérrez
ATTACH;FMTTYPE=image/jpeg:https://aragonsolidario.org/wp-content/uploads/2
 023/05/Fv7EpgiWAAIhfxz.webp
CATEGORIES:ONGD FAS
LOCATION:Centro Joaquín Roncal\, C. de San Braulio\, 5\, Zaragoza\, 50003\
 , España
GEO:41.654686;-0.879386
X-APPLE-STRUCTURED-LOCATION;VALUE=URI;X-ADDRESS=C. de San Braulio\, 5\, Zar
 agoza\, 50003\, España;X-APPLE-RADIUS=100;X-TITLE=Centro Joaquín Roncal:
 geo:41.654686,-0.879386
END:VEVENT
BEGIN:VTIMEZONE
TZID:Europe/Madrid
X-LIC-LOCATION:Europe/Madrid
BEGIN:DAYLIGHT
DTSTART:20230326T030000
TZOFFSETFROM:+0100
TZOFFSETTO:+0200
TZNAME:CEST
END:DAYLIGHT
END:VTIMEZONE
END:VCALENDAR