BEGIN:VCALENDAR
VERSION:2.0
PRODID:-//wp-events-plugin.com//7.2.3.1//EN
TZID:Europe/Madrid
X-WR-TIMEZONE:Europe/Madrid
BEGIN:VEVENT
UID:273@aragonsolidario.org
DTSTART;TZID=Europe/Madrid;VALUE=DATE:20240315
DTEND;TZID=Europe/Madrid;VALUE=DATE:20240413
DTSTAMP:20240325T105246Z
URL:https://aragonsolidario.org/eventos/expo-foto-volun-etiopia-e-india
SUMMARY:Exposición fotográfica: Voluntariado en Etiopía e India
DESCRIPTION:Atención a los horarios de visita que pone en el cartel.
ATTACH;FMTTYPE=image/jpeg:https://aragonsolidario.org/wp-content/uploads/2
 024/03/Captura-de-pantalla-2024-03-25-a-las-10.49.50.webp
CATEGORIES:Otras entidades
LOCATION:Colegio Oficial de Médicos de Huesca\, C. Zaragoza\, 5\, Huesca\,
  22002\, España
GEO:42.13517;-0.4085
X-APPLE-STRUCTURED-LOCATION;VALUE=URI;X-ADDRESS=C. Zaragoza\, 5\, Huesca\, 
 22002\, España;X-APPLE-RADIUS=100;X-TITLE=Colegio Oficial de Médicos de 
 Huesca:geo:42.13517,-0.4085
END:VEVENT
BEGIN:VTIMEZONE
TZID:Europe/Madrid
X-LIC-LOCATION:Europe/Madrid
BEGIN:STANDARD
DTSTART:20231029T020000
TZOFFSETFROM:+0200
TZOFFSETTO:+0100
TZNAME:CET
END:STANDARD
BEGIN:DAYLIGHT
DTSTART:20240331T030000
TZOFFSETFROM:+0100
TZOFFSETTO:+0200
TZNAME:CEST
END:DAYLIGHT
END:VTIMEZONE
END:VCALENDAR