BEGIN:VCALENDAR
VERSION:2.0
PRODID:-//wp-events-plugin.com//7.2.3.1//EN
TZID:Europe/Madrid
X-WR-TIMEZONE:Europe/Madrid
BEGIN:VEVENT
UID:550@aragonsolidario.org
DTSTART;TZID=Europe/Madrid:20251211T180000
DTEND;TZID=Europe/Madrid:20260109T200000
DTSTAMP:20251209T110654Z
URL:https://aragonsolidario.org/eventos/expo-foto-viaje-esperanza-25
SUMMARY:Exposición VIII Concurso Fotografía “Un viaje a la esperanza”
DESCRIPTION:La ONG Bosco Global presenta en Huesca la exposición del VIII 
 Concurso de Fotografía “Un viaje a la esperanza”\, una muestra que in
 vita a reflexionar sobre las realidades y resiliencias de niñas\, niños 
 y comunidades de distintos lugares del mundo.\nPodrá visitarse de lunes a
  viernes\, de 18:00 a 20:00 h\, con inauguración el día 11 a las 18:00 h
 . \n\nPara más información y visitas guiadas\, se ofrece el teléfono 65
 7 270 733.\n
ATTACH;FMTTYPE=image/jpeg:https://aragonsolidario.org/wp-content/uploads/2
 025/12/Cartel-exposicion-2025.webp
CATEGORIES:ONGD FAS
LOCATION:Sala de Exposiciones Fundación Caja Rural\, Pl. Concepción Arena
 l\, 3\, Huesca\, 22002\, España
GEO:42.136053;-0.407916
X-APPLE-STRUCTURED-LOCATION;VALUE=URI;X-ADDRESS=Pl. Concepción Arenal\, 3\
 , Huesca\, 22002\, España;X-APPLE-RADIUS=100;X-TITLE=Sala de Exposiciones
  Fundación Caja Rural:geo:42.136053,-0.407916
END:VEVENT
BEGIN:VTIMEZONE
TZID:Europe/Madrid
X-LIC-LOCATION:Europe/Madrid
BEGIN:STANDARD
DTSTART:20251026T020000
TZOFFSETFROM:+0200
TZOFFSETTO:+0100
TZNAME:CET
END:STANDARD
END:VTIMEZONE
END:VCALENDAR