BEGIN:VCALENDAR
VERSION:2.0
PRODID:-//wp-events-plugin.com//7.2.3.1//EN
TZID:Europe/Madrid
X-WR-TIMEZONE:Europe/Madrid
BEGIN:VEVENT
UID:270@aragonsolidario.org
DTSTART;TZID=Europe/Madrid:20240312T000000
DTEND;TZID=Europe/Madrid:20240409T000000
DTSTAMP:20240321T103020Z
URL:https://aragonsolidario.org/eventos/expo-cuidados-huesca
SUMMARY:Exposición "Los cuidados nos sostienen. Abraza la ecología integr
 al".
DESCRIPTION:La exposición de Cáritas Huesca\, pretende mostrar la realida
 d sobre cómo estamos cuidando el planeta y a las personas que lo habitamo
 s. Además ayuda a plantearse nuevos modos de vivir para crear una socieda
 d\, una comunidad\, donde la persona y el medioambiente estén en el centr
 o de toda actividad
ATTACH;FMTTYPE=image/jpeg:https://aragonsolidario.org/wp-content/uploads/2
 024/03/432476575_730186672608559_1225238293170102194_n.webp
CATEGORIES:ONGD FAS
LOCATION:Edificio de Carmelitas\, Pl. Navarra\, 7\, Huesca\, 22002 \, Espa
 ña
GEO:42.135779;-0.40891
X-APPLE-STRUCTURED-LOCATION;VALUE=URI;X-ADDRESS=Pl. Navarra\, 7\, Huesca\, 
 22002 \, España;X-APPLE-RADIUS=100;X-TITLE=Edificio de Carmelitas:geo:42.
 135779,-0.40891
END:VEVENT
BEGIN:VTIMEZONE
TZID:Europe/Madrid
X-LIC-LOCATION:Europe/Madrid
BEGIN:STANDARD
DTSTART:20231029T020000
TZOFFSETFROM:+0200
TZOFFSETTO:+0100
TZNAME:CET
END:STANDARD
BEGIN:DAYLIGHT
DTSTART:20240331T030000
TZOFFSETFROM:+0100
TZOFFSETTO:+0200
TZNAME:CEST
END:DAYLIGHT
END:VTIMEZONE
END:VCALENDAR