BEGIN:VCALENDAR
VERSION:2.0
PRODID:-//wp-events-plugin.com//7.2.3.1//EN
TZID:Europe/Madrid
X-WR-TIMEZONE:Europe/Madrid
BEGIN:VEVENT
UID:535@aragonsolidario.org
DTSTART;TZID=Europe/Madrid;VALUE=DATE:20251119
DTEND;TZID=Europe/Madrid;VALUE=DATE:20251120
DTSTAMP:20251117T124143Z
URL:https://aragonsolidario.org/eventos/expo-congo
SUMMARY:Exposición de fotos y Charla-coloquio/taller sobre el proyecto “
 Apoyo a mujeres vulnerables y víctimas de violencia en situación de ries
 go y exclusión social mediante formación y desarrollo socioeconómico en
  el Centro "Maison de la Femme"-Casa de la Mujer en Bukavu\, Rep. Dem. Con
 go.”
DESCRIPTION:
ATTACH;FMTTYPE=image/jpeg:https://aragonsolidario.org/wp-content/uploads/2
 025/11/Cartel-DPZ-Charla-coloquioExposicion-scaled.webp
CATEGORIES:ONGD FAS
LOCATION:Colegio Compañía de María\, C. de Bilbao\, 10\, Zaragoza\, 5000
 4\, España
GEO:41.650056;-0.886375
X-APPLE-STRUCTURED-LOCATION;VALUE=URI;X-ADDRESS=C. de Bilbao\, 10\, Zaragoz
 a\, 50004\, España;X-APPLE-RADIUS=100;X-TITLE=Colegio Compañía de Marí
 a:geo:41.650056,-0.886375
END:VEVENT
BEGIN:VTIMEZONE
TZID:Europe/Madrid
X-LIC-LOCATION:Europe/Madrid
BEGIN:STANDARD
DTSTART:20251026T020000
TZOFFSETFROM:+0200
TZOFFSETTO:+0100
TZNAME:CET
END:STANDARD
END:VTIMEZONE
END:VCALENDAR