BEGIN:VCALENDAR
VERSION:2.0
PRODID:-//wp-events-plugin.com//7.2.3.1//EN
TZID:Europe/Madrid
X-WR-TIMEZONE:Europe/Madrid
BEGIN:VEVENT
UID:502@aragonsolidario.org
DTSTART;TZID=Europe/Madrid:20251022T000000
DTEND;TZID=Europe/Madrid:20251031T000000
DTSTAMP:20251020T073753Z
URL:https://aragonsolidario.org/eventos/expo-conectaods-ejea
SUMMARY:Ruta de la exposición ConectaODS - Ejea de los Caballeros
DESCRIPTION:A lo largo de estos meses\, y hasta final de año\, la Exposici
 ón ConectaODS estará de ruta por varias localidades de la provincia con 
 nuestro proyecto "Acercando la educación para la ciudadanía global a los
  municipios y comarcas de la provincia de Zaragoza" gracias al apoyo de la
  Diputación provincial. Queremos contribuir con esta herramienta\, a dar 
 a conocer mejor la Agenda 2030\, y generar personas más conscientes\, act
 ivas y críticas con las situaciones de pobreza\, desigualdad y degradaci
 ón medioambiental que vivimos.\n\n
ATTACH;FMTTYPE=image/jpeg:https://aragonsolidario.org/wp-content/uploads/2
 025/10/PR-DPZ_Cartel-ConectaODS297-x-420-mm-Ejea.webp
CATEGORIES:FAS
LOCATION:Centro Cívico Cultural Ejea de los Caballeros\, Paseo del Muro\, 
 22\, 3°\, Ejea de los Caballeros\, Zaragoza\, 50600\, España
GEO:42.12609;-1.14034
X-APPLE-STRUCTURED-LOCATION;VALUE=URI;X-ADDRESS=Paseo del Muro\, 22\, 3°\,
  Ejea de los Caballeros\, Zaragoza\, 50600\, España;X-APPLE-RADIUS=100;X-
 TITLE=Centro Cívico Cultural Ejea de los Caballeros:geo:42.12609,-1.14034
END:VEVENT
BEGIN:VTIMEZONE
TZID:Europe/Madrid
X-LIC-LOCATION:Europe/Madrid
BEGIN:DAYLIGHT
DTSTART:20250330T030000
TZOFFSETFROM:+0100
TZOFFSETTO:+0200
TZNAME:CEST
END:DAYLIGHT
BEGIN:STANDARD
DTSTART:20251026T020000
TZOFFSETFROM:+0200
TZOFFSETTO:+0100
TZNAME:CET
END:STANDARD
END:VTIMEZONE
END:VCALENDAR