BEGIN:VCALENDAR
VERSION:2.0
PRODID:-//wp-events-plugin.com//7.2.3.1//EN
TZID:Europe/Madrid
X-WR-TIMEZONE:Europe/Madrid
BEGIN:VEVENT
UID:491@aragonsolidario.org
DTSTART;TZID=Europe/Madrid;VALUE=DATE:20251020
DTEND;TZID=Europe/Madrid;VALUE=DATE:20251124
DTSTAMP:20251020T110152Z
URL:https://aragonsolidario.org/eventos/expo-aquella-niebla-este-silencio-
 mor25
SUMMARY:Exposición "Aquella niebla\, este silencio"
DESCRIPTION:En esta exposición\, la fotógrafa Judith Prat\, nos ofrece su
  último trabajo: Aquella niebla\, este silencio\, incluido en la program
 ación expositiva de PhotoEspaña.\nLa muestra constituye una sugerente re
 flexión sobre uno de los capítulos más silenciados de nuestra historia:
  la memoria esclavista española.\n\n\nVISITAS GUIADAS Y MÁS INFO AQUÍ\n
 \n
ATTACH;FMTTYPE=image/jpeg:https://aragonsolidario.org/wp-content/uploads/2
 025/09/judithPratEXPO.webp
CATEGORIES:Otras entidades
LOCATION:Casa de los Morlanes\, Pl. de San Carlos\, 4 \, Zaragoza\, 50001\,
  España
GEO:41.651571;-0.876018
X-APPLE-STRUCTURED-LOCATION;VALUE=URI;X-ADDRESS=Pl. de San Carlos\, 4 \, Za
 ragoza\, 50001\, España;X-APPLE-RADIUS=100;X-TITLE=Casa de los Morlanes:g
 eo:41.651571,-0.876018
END:VEVENT
BEGIN:VTIMEZONE
TZID:Europe/Madrid
X-LIC-LOCATION:Europe/Madrid
BEGIN:DAYLIGHT
DTSTART:20250330T030000
TZOFFSETFROM:+0100
TZOFFSETTO:+0200
TZNAME:CEST
END:DAYLIGHT
BEGIN:STANDARD
DTSTART:20251026T020000
TZOFFSETFROM:+0200
TZOFFSETTO:+0100
TZNAME:CET
END:STANDARD
END:VTIMEZONE
END:VCALENDAR