BEGIN:VCALENDAR
VERSION:2.0
PRODID:-//wp-events-plugin.com//7.2.3.1//EN
TZID:Europe/Madrid
X-WR-TIMEZONE:Europe/Madrid
BEGIN:VEVENT
UID:574@aragonsolidario.org
DTSTART;TZID=Europe/Madrid;VALUE=DATE:20260209
DTEND;TZID=Europe/Madrid;VALUE=DATE:20260303
DTSTAMP:20260206T141842Z
URL:https://aragonsolidario.org/eventos/estrella-manana-en-mercado
SUMMARY:Estrella de la Mañana en el Mercado Central
DESCRIPTION:El puesto solidario nº 66 del Mercado Central es un rincón
  de India y el Tíbet en Zaragoza\, dedicado a la solidaridad y la cooper
 ación internacional.\n\nEn él encontrarás artesanía\, textiles y prod
 uctos tradicionales de ambos países\, seleccionados con criterios de com
 ercio consciente.\nTodo lo recaudado se destina a los proyectos de Estrel
 la de la Mañana en India.\nUn espacio para consumir con sentido\, apoya
 r el desarrollo y acercarte a otras culturas.
ATTACH;FMTTYPE=image/jpeg:https://aragonsolidario.org/wp-content/uploads/2
 026/02/cartel-EDM-mercado-central.webp
CATEGORIES:ONGD FAS
LOCATION:Mercado Central de Zaragoza\, Av. de César Augusto\, 110\, Casco 
 Antiguo\, \, Zaragoza\, Zaragoza\, 50003\, España
GEO:41.655746;-0.883266
X-APPLE-STRUCTURED-LOCATION;VALUE=URI;X-ADDRESS=Av. de César Augusto\, 110
 \, Casco Antiguo\, \, Zaragoza\, Zaragoza\, 50003\, España;X-APPLE-RADIUS
 =100;X-TITLE=Mercado Central de Zaragoza:geo:41.655746,-0.883266
END:VEVENT
BEGIN:VTIMEZONE
TZID:Europe/Madrid
X-LIC-LOCATION:Europe/Madrid
BEGIN:STANDARD
DTSTART:20251026T020000
TZOFFSETFROM:+0200
TZOFFSETTO:+0100
TZNAME:CET
END:STANDARD
END:VTIMEZONE
END:VCALENDAR