BEGIN:VCALENDAR
VERSION:2.0
PRODID:-//wp-events-plugin.com//7.2.3.1//EN
TZID:Europe/Madrid
X-WR-TIMEZONE:Europe/Madrid
BEGIN:VEVENT
UID:552@aragonsolidario.org
DTSTART;TZID=Europe/Madrid:20251215T100000
DTEND;TZID=Europe/Madrid:20251220T200000
DTSTAMP:20251209T145041Z
URL:https://aragonsolidario.org/eventos/ess-pop-up
SUMMARY:ESS Pop Up
DESCRIPTION:El ESS Pop Up\, la muestra temporal de Economía Social y Solid
 aria del Mercado Social de Aragón\, se celebrará del 15 al 20 de diciemb
 re en el Centro Joaquín Roncal (C/ San Braulio 5\, Zaragoza). La FAS cola
 boramos en esta iniciativa y aportaremos también una selección de produc
 tos de Comercio Justo de entidades FAS\, sumándonos a este espacio que vi
 sibiliza alternativas económicas más justas y sostenibles.\n Podrá visi
 tarse de lunes a viernes\, de 10:00 a 13:30 y de 17:00 a 20:00 h\, y el s
 ábado de 10:00 a 13:30 h.\n
ATTACH;FMTTYPE=image/jpeg:https://aragonsolidario.org/wp-content/uploads/2
 025/12/muestradic2025.webp
CATEGORIES:FAS
LOCATION:Centro Joaquín Roncal\, C. de San Braulio\, 5\, Zaragoza\, 50003\
 , España
GEO:41.654686;-0.879386
X-APPLE-STRUCTURED-LOCATION;VALUE=URI;X-ADDRESS=C. de San Braulio\, 5\, Zar
 agoza\, 50003\, España;X-APPLE-RADIUS=100;X-TITLE=Centro Joaquín Roncal:
 geo:41.654686,-0.879386
END:VEVENT
BEGIN:VTIMEZONE
TZID:Europe/Madrid
X-LIC-LOCATION:Europe/Madrid
BEGIN:STANDARD
DTSTART:20251026T020000
TZOFFSETFROM:+0200
TZOFFSETTO:+0100
TZNAME:CET
END:STANDARD
END:VTIMEZONE
END:VCALENDAR