BEGIN:VCALENDAR
VERSION:2.0
PRODID:-//wp-events-plugin.com//7.2.3.1//EN
TZID:Europe/Madrid
X-WR-TIMEZONE:Europe/Madrid
BEGIN:VEVENT
UID:280@aragonsolidario.org
DTSTART;TZID=Europe/Madrid;VALUE=DATE:20240419
DTEND;TZID=Europe/Madrid;VALUE=DATE:20240422
DTSTAMP:20240408T100418Z
URL:https://aragonsolidario.org/eventos/escuela-uni-soberania-alimentaria
SUMMARY:Escuela universitaria sobre soberanía alimentaria y defensa del te
 rritorio
DESCRIPTION:Los días 19\, 20 y 21 de abril\, la ONG Justicia Alimentaria\,
  con el apoyo financiero de la Agencia Española de Cooperación Internaci
 onal al Desarrollo (AECID) y del Gobierno de Aragón\, organiza una Escuel
 a universitaria sobre soberanía alimentaria y defensa del territorio que
  se celebrará en la Residencia Universitaria de Jaca de la Universidad de
  Zaragoza. \n\nPara más información AQUÍ.
ATTACH;FMTTYPE=image/jpeg:https://aragonsolidario.org/wp-content/uploads/2
 024/04/justiescu-copia.webp
CATEGORIES:ONGD FAS
LOCATION:Residencia Universitaria de Jaca\, C. de la Universidad\, 3\, Jaca
 \, 22700 \, España
GEO:42.568888;-0.554038
X-APPLE-STRUCTURED-LOCATION;VALUE=URI;X-ADDRESS=C. de la Universidad\, 3\, 
 Jaca\, 22700 \, España;X-APPLE-RADIUS=100;X-TITLE=Residencia Universitari
 a de Jaca:geo:42.568888,-0.554038
END:VEVENT
BEGIN:VTIMEZONE
TZID:Europe/Madrid
X-LIC-LOCATION:Europe/Madrid
BEGIN:DAYLIGHT
DTSTART:20240331T030000
TZOFFSETFROM:+0100
TZOFFSETTO:+0200
TZNAME:CEST
END:DAYLIGHT
END:VTIMEZONE
END:VCALENDAR