BEGIN:VCALENDAR
VERSION:2.0
PRODID:-//wp-events-plugin.com//7.2.3.1//EN
TZID:Europe/Madrid
X-WR-TIMEZONE:Europe/Madrid
BEGIN:VEVENT
UID:537@aragonsolidario.org
DTSTART;TZID=Europe/Madrid:20251126T173000
DTEND;TZID=Europe/Madrid:20251126T190000
DTSTAMP:20251117T125432Z
URL:https://aragonsolidario.org/eventos/encuentro-virtual-mujeres-rurales
SUMMARY:Encuentro virtual. Mujeres rurales\, saberes y permacultura
DESCRIPTION:En un momento en que el cambio climático y las desigualdades a
 fectan especialmente al medio rural\, las mujeres siguen siendo motor de r
 esiliencia y de cuidado de la tierra. Desde Zaragoza hasta El Salvador\, m
 uchas están impulsando alternativas agroecológicas y solidarias que mere
 cen ser conocidas.\nPor eso te invitamos a este encuentro virtual abierto
  al público\, donde mujeres rurales de El Salvador y Zaragoza compartir
 án sus experiencias\, saberes y prácticas de formas de cultivo que cuid
 an la tierra para la sostenibilidad y la vida digna en el campo.\nUna con
 versación viva entre quienes cultivan la tierra y también la esperanza.\
 nNo hace falta inscripción previa. \nParticipan mujeres de AMDI y REDES
  (El Salvador) junto a Biela y Tierra\, CERAI y ACPP.\n
ATTACH;FMTTYPE=image/jpeg:https://aragonsolidario.org/wp-content/uploads/2
 025/11/Cartel_Encuentro-Virtual-SAL-ZGZ.webp
CATEGORIES:ONGD FAS
LOCATION:https://us02web.zoom.us/j/88128587024?pwd=8UfJBeigvvDidxS91PHVIP6M
 INuHNa.1
END:VEVENT
BEGIN:VTIMEZONE
TZID:Europe/Madrid
X-LIC-LOCATION:Europe/Madrid
BEGIN:STANDARD
DTSTART:20251026T020000
TZOFFSETFROM:+0200
TZOFFSETTO:+0100
TZNAME:CET
END:STANDARD
END:VTIMEZONE
END:VCALENDAR