BEGIN:VCALENDAR
VERSION:2.0
PRODID:-//wp-events-plugin.com//7.2.3.1//EN
TZID:Europe/Madrid
X-WR-TIMEZONE:Europe/Madrid
BEGIN:VEVENT
UID:400@aragonsolidario.org
DTSTART;TZID=Europe/Madrid:20250215T180000
DTEND;TZID=Europe/Madrid:20250215T200000
DTSTAMP:20250204T090208Z
URL:https://aragonsolidario.org/eventos/el-lado-oscuro-de-la-nube
SUMMARY:El lado oscuro de la nube: El impacto invisible de los centros de d
 atos
DESCRIPTION:El evento abordará el crecimiento de la infraestructura digita
 l en Aragón y sus impactos sociales y ecológicos\, analizando cuestiones
  como el tipo de empleo que generan los centros de datos\, las ventajas fi
 scales que reciben y su efecto en el sector primario.\nParticipantes\n\n 	
 Modera: Marina Gros\n 	Ponentes:\n\n 	Aurora Gómez (activista\, Tu nube s
 eca mi río)\n 	Adrián Almazán (profesor de Filosofía\, Universidad Car
 los III)\n 	Erika Glez. (coordinadora de Ecologistas en Acción)\n 	Raúl 
 Burillo (inspector de Hacienda)\n 	Manuel García (investigador del CSIC)\
 n 	Chechu Sánchez (agricultor\, Malas Yerbas)\n\n\n\nOrganizan:\n\n 	Univ
 ersidad Carlos III de Madrid\n 	THECO (Grupo de Investigación en Tecnolog
 ías y Humanidades Ecológicas)\n 	Tu Nube Seca Mi Río\n 	Ecologistas en 
 Acción\n\nEl evento también podrá seguirse por streaming escaneando el 
 código QR que aparece en la imagen.
ATTACH;FMTTYPE=image/jpeg:https://aragonsolidario.org/wp-content/uploads/2
 025/02/ladoosucronube.webp
CATEGORIES:Otras entidades
LOCATION:Centro Joaquín Roncal\, C. de San Braulio\, 5\, Zaragoza\, 50003\
 , España
GEO:41.654686;-0.879386
X-APPLE-STRUCTURED-LOCATION;VALUE=URI;X-ADDRESS=C. de San Braulio\, 5\, Zar
 agoza\, 50003\, España;X-APPLE-RADIUS=100;X-TITLE=Centro Joaquín Roncal:
 geo:41.654686,-0.879386
END:VEVENT
BEGIN:VTIMEZONE
TZID:Europe/Madrid
X-LIC-LOCATION:Europe/Madrid
BEGIN:STANDARD
DTSTART:20241027T020000
TZOFFSETFROM:+0200
TZOFFSETTO:+0100
TZNAME:CET
END:STANDARD
END:VTIMEZONE
END:VCALENDAR