BEGIN:VCALENDAR
VERSION:2.0
PRODID:-//wp-events-plugin.com//7.2.3.1//EN
TZID:Europe/Madrid
X-WR-TIMEZONE:Europe/Madrid
BEGIN:VEVENT
UID:589@aragonsolidario.org
DTSTART;TZID=Europe/Madrid:20260325T180000
DTEND;TZID=Europe/Madrid:20260325T193000
DTSTAMP:20260323T105710Z
URL:https://aragonsolidario.org/eventos/diversidad-cultural-que-nos-une-26
SUMMARY:Diversidad cultural que nos une: voces por la igualdad
DESCRIPTION:Cáritas Diocesana de Zaragoza organiza el próximo 25 de marzo
 \, a las 18:00 horas\, en la Casa de las Culturas de Zaragoza\, el acto 
 “Diversidad cultural que nos une: voces por la igualdad”\, con motivo 
 del Día contra el Racismo. La actividad busca dar voz a la diversidad cul
 tural y contará con la participación de Shani Sadiki\, de SHACOA\; Magol
 a Arias\, de Mujeres Dejando HuellaZ\; Salsabila Hadbani\, estudiante de T
 rabajo Social\; y Mercedes Nicolás\, jefa de la Unidad de Diversidad Cult
 ural del Ayuntamiento de Zaragoza.\n\n&nbsp\;\n\n
ATTACH;FMTTYPE=image/jpeg:https://aragonsolidario.org/wp-content/uploads/2
 026/03/2026_acto_contra_racismo-1.webp
CATEGORIES:ONGD FAS
LOCATION:Casa de las Culturas\, C. de José Palafox\, 29\, Zaragoza\, 50001
 \, España
GEO:41.65341;-0.872988
X-APPLE-STRUCTURED-LOCATION;VALUE=URI;X-ADDRESS=C. de José Palafox\, 29\, 
 Zaragoza\, 50001\, España;X-APPLE-RADIUS=100;X-TITLE=Casa de las Culturas
 :geo:41.65341,-0.872988
END:VEVENT
BEGIN:VTIMEZONE
TZID:Europe/Madrid
X-LIC-LOCATION:Europe/Madrid
BEGIN:STANDARD
DTSTART:20251026T020000
TZOFFSETFROM:+0200
TZOFFSETTO:+0100
TZNAME:CET
END:STANDARD
END:VTIMEZONE
END:VCALENDAR