BEGIN:VCALENDAR
VERSION:2.0
PRODID:-//wp-events-plugin.com//7.2.3.1//EN
TZID:Europe/Madrid
X-WR-TIMEZONE:Europe/Madrid
BEGIN:VEVENT
UID:599@aragonsolidario.org
DTSTART;TZID=Europe/Madrid;VALUE=DATE:20260420
DTEND;TZID=Europe/Madrid;VALUE=DATE:20260503
DTSTAMP:20260420T105341Z
URL:https://aragonsolidario.org/eventos/dia-madre-mercado-central-estrella
 26
SUMMARY:Día de la madre en el Mercado Central
DESCRIPTION:Con motivo del Día de la Madre\, del 20 de abril al 2 de mayo\
 , Estrella de la Mañana estará presente en el Mercado Central con una in
 iciativa solidaria que combina pequeños gestos con impacto real. A travé
 s de la venta de flores solidarias —1 por 2€ o 3 por 5€— se contri
 buye a mejorar la alimentación de niños y niñas en escuelas rurales de 
 India. Además\, habrá descuentos del 30% en una selección de productos 
 y\, como agradecimiento\, las personas que se hagan socias recibirán flor
 es de regalo. Una propuesta sencilla para celebrar este día apoyando el d
 erecho a una alimentación digna.\n\n
ATTACH;FMTTYPE=image/jpeg:https://aragonsolidario.org/wp-content/uploads/2
 026/04/2026-dia-de-la-madre-scaled.webp
CATEGORIES:ONGD FAS
LOCATION:Mercado Central de Zaragoza\, Av. de César Augusto\, 110\, Casco 
 Antiguo\, \, Zaragoza\, Zaragoza\, 50003\, España
GEO:41.655746;-0.883266
X-APPLE-STRUCTURED-LOCATION;VALUE=URI;X-ADDRESS=Av. de César Augusto\, 110
 \, Casco Antiguo\, \, Zaragoza\, Zaragoza\, 50003\, España;X-APPLE-RADIUS
 =100;X-TITLE=Mercado Central de Zaragoza:geo:41.655746,-0.883266
END:VEVENT
BEGIN:VTIMEZONE
TZID:Europe/Madrid
X-LIC-LOCATION:Europe/Madrid
BEGIN:DAYLIGHT
DTSTART:20260329T030000
TZOFFSETFROM:+0100
TZOFFSETTO:+0200
TZNAME:CEST
END:DAYLIGHT
END:VTIMEZONE
END:VCALENDAR