BEGIN:VCALENDAR
VERSION:2.0
PRODID:-//wp-events-plugin.com//7.2.3.1//EN
TZID:Europe/Madrid
X-WR-TIMEZONE:Europe/Madrid
BEGIN:VEVENT
UID:10@aragonsolidario.org
DTSTART;TZID=Europe/Madrid:20230210T173000
DTEND;TZID=Europe/Madrid:20230210T210000
DTSTAMP:20230206T142519Z
URL:https://aragonsolidario.org/eventos/dia-internacional-de-la-mujer-y-la
 -nina-en-la-ciencia
SUMMARY:Día Internacional de la Mujer y la Niña en la Ciencia
DESCRIPTION:\n\n\nMedicusmundi celebra en su en Espacio Mundi\, el Día 
 Internacional de la Mujer y la Niña en la Ciencia el 10 de febrero:\n\n
 \n\n\n\n\n17:30h. Teatro de títeres. 18:30h. Talleres para cuidar el pl
 aneta. 19:30h. Charla con la científica Begoña Gracia. Exposición “
 Visibilizando la Igualdad: mujeres científicas" del 1 al 28 de febrero en
  horario de atención. – Encuentro científico 19:30h\, con Begoña Grac
 iay. Una oportunidad para descubrir los pasos los pasos y la motivación d
 e esta profesional del laboratorio\, Grupo de Investigación de Genética 
 de Microbacterias de la Universidad de Zaragoza.\n\n\n\n\n\n\nToda la info
 rmación AQUÍ.\n\n\n
ATTACH;FMTTYPE=image/jpeg:https://aragonsolidario.org/wp-content/uploads/2
 023/01/Actividades-ESPACIOMUNDI-10feb-infancia.webp
CATEGORIES:ONGD FAS
LOCATION:Espacio Mundi\, Calle San Blas\, 79 \, Zaragoza\, Zaragoza\, 50003
 \, España
GEO:41.656613;-0.887866
X-APPLE-STRUCTURED-LOCATION;VALUE=URI;X-ADDRESS=Calle San Blas\, 79 \, Zara
 goza\, Zaragoza\, 50003\, España;X-APPLE-RADIUS=100;X-TITLE=Espacio Mundi
 :geo:41.656613,-0.887866
END:VEVENT
BEGIN:VTIMEZONE
TZID:Europe/Madrid
X-LIC-LOCATION:Europe/Madrid
BEGIN:STANDARD
DTSTART:20221030T020000
TZOFFSETFROM:+0200
TZOFFSETTO:+0100
TZNAME:CET
END:STANDARD
END:VTIMEZONE
END:VCALENDAR