BEGIN:VCALENDAR
VERSION:2.0
PRODID:-//wp-events-plugin.com//7.2.3.1//EN
TZID:Europe/Madrid
X-WR-TIMEZONE:Europe/Madrid
BEGIN:VEVENT
UID:183@aragonsolidario.org
DTSTART;TZID=Europe/Madrid:20231104T180000
DTEND;TZID=Europe/Madrid:20231104T190000
DTSTAMP:20231030T111420Z
URL:https://aragonsolidario.org/eventos/dia-internacional-con-palestina-ma
 nifestacion
SUMMARY:Día internacional de solidaridad con Palestina - Manifestación
DESCRIPTION:En el día internacional de solidaridad con Palestina\, Manifes
 tación en Zaragoza desde Glorieta Sasera hasta Plaza del Pilar
ATTACH;FMTTYPE=image/jpeg:https://aragonsolidario.org/wp-content/uploads/2
 023/10/diapalesmani.webp
CATEGORIES:Otras entidades
LOCATION:Glorieta Sasera\, Glorieta Sasera\, Zaragoza\, 50008\, España
GEO:41.645678;-0.885052
X-APPLE-STRUCTURED-LOCATION;VALUE=URI;X-ADDRESS=Glorieta Sasera\, Zaragoza\
 , 50008\, España;X-APPLE-RADIUS=100;X-TITLE=Glorieta Sasera:geo:41.645678
 ,-0.885052
END:VEVENT
BEGIN:VTIMEZONE
TZID:Europe/Madrid
X-LIC-LOCATION:Europe/Madrid
BEGIN:STANDARD
DTSTART:20231029T020000
TZOFFSETFROM:+0200
TZOFFSETTO:+0100
TZNAME:CET
END:STANDARD
END:VTIMEZONE
END:VCALENDAR