BEGIN:VCALENDAR
VERSION:2.0
PRODID:-//wp-events-plugin.com//7.2.3.1//EN
TZID:Europe/Madrid
X-WR-TIMEZONE:Europe/Madrid
BEGIN:VEVENT
UID:519@aragonsolidario.org
DTSTART;TZID=Europe/Madrid:20251103T190000
DTEND;TZID=Europe/Madrid:20251103T190000
DTSTAMP:20251103T112526Z
URL:https://aragonsolidario.org/eventos/derechos-selva-amazonica-peru-25
SUMMARY:Conferencia “Derechos Humanos y medioambientales en la selva amaz
 ónica del Perú".
DESCRIPTION:Conferencia “Derechos Humanos y medioambientales en la selva 
 amazónica del Perú”\, organizada por la Federación Agustiniana Espa
 ñola\, el Centro Pignatelli y la Delegación de Ecología Integral de la 
 Archidiócesis de Zaragoza.\nParticipan en la mesa redonda Rita Ruck \, di
 rectora de la Oficina de Derechos Humanos del Vicariato de Iquitos\; Marí
 a Luz Canaquiri\, nativa de la etnia Kukama y premio Goldman (el "Nobel ve
 rde") año 2025\; y Fr. Jaazeal Jakosalem\, Consejero General OAR y presid
 ente de ARCORES Internacional.\nEsta charla-coloquio ofrecerá la oportun
 idad de conocer de primera mano la realidad de los derechos humanos y medi
 oambientales en la selva amazónica peruana\, a través de una mirada dire
 cta y comprometida con su contexto.
ATTACH;FMTTYPE=image/jpeg:https://aragonsolidario.org/wp-content/uploads/2
 025/11/WhatsApp-Image-2025-11-03-at-11.22.23.webp
CATEGORIES:ONGD FAS
LOCATION:Centro Pignatelli\, P.º de la Constitución\, 6\, Zaragoza\, Zara
 goza\, 50008\, España
GEO:41.647252;-0.883937
X-APPLE-STRUCTURED-LOCATION;VALUE=URI;X-ADDRESS=P.º de la Constitución\, 
 6\, Zaragoza\, Zaragoza\, 50008\, España;X-APPLE-RADIUS=100;X-TITLE=Centr
 o Pignatelli:geo:41.647252,-0.883937
END:VEVENT
BEGIN:VTIMEZONE
TZID:Europe/Madrid
X-LIC-LOCATION:Europe/Madrid
BEGIN:STANDARD
DTSTART:20251026T020000
TZOFFSETFROM:+0200
TZOFFSETTO:+0100
TZNAME:CET
END:STANDARD
END:VTIMEZONE
END:VCALENDAR