BEGIN:VCALENDAR
VERSION:2.0
PRODID:-//wp-events-plugin.com//7.2.3.1//EN
TZID:Europe/Madrid
X-WR-TIMEZONE:Europe/Madrid
BEGIN:VEVENT
UID:219@aragonsolidario.org
DTSTART;TZID=Europe/Madrid;VALUE=DATE:20231211
DTEND;TZID=Europe/Madrid;VALUE=DATE:20240101
DTSTAMP:20231211T090746Z
URL:https://aragonsolidario.org/eventos/curso-voluntariado-internacional-h
 uauquipura
SUMMARY:Curso de voluntariado internacional 2024 de Huauquipura
DESCRIPTION:La Asociación Huauquipura durante este mes de diciembre inicia
 n a través de sus redes sociales la difusión de su Curso de Voluntariado
  Internacional 2024\, que se realizará en formato presencial y gratuito e
 ntre los meses de febrero y mayo de 2024 en Zaragoza.\nPuedes encontrar to
 da la información en su web\, y recuerda que es necesario realizar una in
 scripción previa.\nY si lo prefieres\, puedes contactar en voluntariado@h
 uauquipura.org\n\nMÁS INFORMACIÓN AQUÍ\n
ATTACH;FMTTYPE=image/jpeg:https://aragonsolidario.org/wp-content/uploads/2
 023/12/Cartel-provisional-curso-volunt.internac-2024-HQ.webp
CATEGORIES:ONGD FAS
LOCATION:https://huauquipura.org/informacion-sobre-el-curso-de-voluntariado
 -internacional-2024/ 
END:VEVENT
BEGIN:VTIMEZONE
TZID:Europe/Madrid
X-LIC-LOCATION:Europe/Madrid
BEGIN:STANDARD
DTSTART:20231029T020000
TZOFFSETFROM:+0200
TZOFFSETTO:+0100
TZNAME:CET
END:STANDARD
END:VTIMEZONE
END:VCALENDAR