BEGIN:VCALENDAR
VERSION:2.0
PRODID:-//wp-events-plugin.com//7.2.3.1//EN
TZID:Europe/Madrid
X-WR-TIMEZONE:Europe/Madrid
BEGIN:VEVENT
UID:549@aragonsolidario.org
DTSTART;TZID=Europe/Madrid;VALUE=DATE:20251203
DTEND;TZID=Europe/Madrid;VALUE=DATE:20260122
DTSTAMP:20251203T122611Z
URL:https://aragonsolidario.org/eventos/curso-vol-inter-huauqui-25
SUMMARY:Curso de voluntariado internacional de Huauquipura
DESCRIPTION:La Asociación Huauquipura inicia el proceso de preinscripción
  a su Curso de Voluntariado Internacional 2026 presencial y gratuito\, que
  ofrece una formación dinámica y participativa a las personas interesada
 s en el voluntariado internacional\, y para aquellas que quieran tener una
  experiencia de colaboración y aprendizaje mutuo con alguna de las organi
 zaciones locales en Ecuador y República Dominicana con las que colaboramo
 s.\nINSCRIPCIONES HASTA EL 21 DE ENERO AQUÍ\n
ATTACH;FMTTYPE=image/jpeg:https://aragonsolidario.org/wp-content/uploads/2
 025/12/CARTEL-VOLUNTARIADO-INTERNACIONAL-HQ-2026-scaled.webp
CATEGORIES:ONGD FAS
LOCATION:Centro Joaquín Roncal\, C. de San Braulio\, 5\, Zaragoza\, 50003\
 , España
GEO:41.654686;-0.879386
X-APPLE-STRUCTURED-LOCATION;VALUE=URI;X-ADDRESS=C. de San Braulio\, 5\, Zar
 agoza\, 50003\, España;X-APPLE-RADIUS=100;X-TITLE=Centro Joaquín Roncal:
 geo:41.654686,-0.879386
END:VEVENT
BEGIN:VTIMEZONE
TZID:Europe/Madrid
X-LIC-LOCATION:Europe/Madrid
BEGIN:STANDARD
DTSTART:20251026T020000
TZOFFSETFROM:+0200
TZOFFSETTO:+0100
TZNAME:CET
END:STANDARD
END:VTIMEZONE
END:VCALENDAR