BEGIN:VCALENDAR
VERSION:2.0
PRODID:-//wp-events-plugin.com//7.2.3.1//EN
TZID:Europe/Madrid
X-WR-TIMEZONE:Europe/Madrid
BEGIN:VEVENT
UID:184@aragonsolidario.org
DTSTART;TZID=Europe/Madrid;VALUE=DATE:20231113
DTEND;TZID=Europe/Madrid;VALUE=DATE:20231114
DTSTAMP:20231030T112717Z
URL:https://aragonsolidario.org/eventos/curso-online-pedagogia-cuidados
SUMMARY:Curso Online Pedagogía de los Cuidados
DESCRIPTION:Intered organiza el Curso Online Pedagogía de los Cuidados\n\n
 Dirigido a agentes educativos tanto de la educación formal como no formal
 .\nDel 15 de noviembre al 15 de diciembre\nGratuito\n20 horas de formació
 n\nAcreditado por la Dirección General de Innovación y Formación Profes
 ional\nInscribete aquí antes del 14 de noviembre
ATTACH;FMTTYPE=image/jpeg:https://aragonsolidario.org/wp-content/uploads/2
 023/10/cursoINTEREDcuida.webp
CATEGORIES:ONGD FAS
LOCATION:https://forms.office.com/pages/responsepage.aspx?id=63WIve9DdkibUD
 d-clNIU9XC6L_jpXlDgPMalYL-kUlUNFE5WUxKSlVHWDVNUDRKSlQzTEdUUTc3MS4u
END:VEVENT
BEGIN:VTIMEZONE
TZID:Europe/Madrid
X-LIC-LOCATION:Europe/Madrid
BEGIN:STANDARD
DTSTART:20231029T020000
TZOFFSETFROM:+0200
TZOFFSETTO:+0100
TZNAME:CET
END:STANDARD
END:VTIMEZONE
END:VCALENDAR