BEGIN:VCALENDAR
VERSION:2.0
PRODID:-//wp-events-plugin.com//7.2.3.1//EN
TZID:Europe/Madrid
X-WR-TIMEZONE:Europe/Madrid
BEGIN:VEVENT
UID:528@aragonsolidario.org
DTSTART;TZID=Europe/Madrid:20251105T190000
DTEND;TZID=Europe/Madrid:20251105T190000
DTSTAMP:20251103T144609Z
URL:https://aragonsolidario.org/eventos/cultivar-la-paz-25
SUMMARY:Presentación del libro Cultivar la Paz
DESCRIPTION:La Fundación Seminario de Investigación para la Paz organiza 
 un acto público de presentación de su nuevo libro Cultivar la Paz.\n\nEn
  el acto intervendrán:\nMaría Jesús Luna Serreta\, Directora de la Fund
 ación SIP\;\nMario López Martínez\, Catedrático de Historia Contempor
 ánea\, Investigador del Instituto de la Paz y los Conflictos\, Universida
 d de Granada\;\nJuan Ignacio Pérez Más\, Secretario General de Presidenc
 ia del Gobierno de Aragón\;\ny Gerardo Oliván Bellosta\, Secretario Prim
 ero de la Mesa de las Cortes de Aragón.\n\nAcceso libre
ATTACH;FMTTYPE=image/jpeg:https://aragonsolidario.org/wp-content/uploads/2
 025/11/seipaz.webp
CATEGORIES:Otras entidades
LOCATION:Centro Pignatelli\, P.º de la Constitución\, 6\, Zaragoza\, Zara
 goza\, 50008\, España
GEO:41.647252;-0.883937
X-APPLE-STRUCTURED-LOCATION;VALUE=URI;X-ADDRESS=P.º de la Constitución\, 
 6\, Zaragoza\, Zaragoza\, 50008\, España;X-APPLE-RADIUS=100;X-TITLE=Centr
 o Pignatelli:geo:41.647252,-0.883937
END:VEVENT
BEGIN:VTIMEZONE
TZID:Europe/Madrid
X-LIC-LOCATION:Europe/Madrid
BEGIN:STANDARD
DTSTART:20251026T020000
TZOFFSETFROM:+0200
TZOFFSETTO:+0100
TZNAME:CET
END:STANDARD
END:VTIMEZONE
END:VCALENDAR