BEGIN:VCALENDAR
VERSION:2.0
PRODID:-//wp-events-plugin.com//7.2.3.1//EN
TZID:Europe/Madrid
X-WR-TIMEZONE:Europe/Madrid
BEGIN:VEVENT
UID:548@aragonsolidario.org
DTSTART;TZID=Europe/Madrid;VALUE=DATE:20251201
DTEND;TZID=Europe/Madrid;VALUE=DATE:20260101
DTSTAMP:20251201T113204Z
URL:https://aragonsolidario.org/eventos/cultivando-alternativas-mauritania
 -borja
SUMMARY:Cultivando alternativas en Mauritania
DESCRIPTION:La exposición “Cultivando alternativas en Mauritania”\, de
 l fotógrafo Pablo Santana\, podrá visitarse del 1 al 31 de diciembre en 
 la Casa de las Conchas – Palacio de los Vera (Borja). Una muestra organi
 zada por CERAI que acerca experiencias agrícolas y comunitarias del país
 . Horario: lunes a viernes de 11 a 13 h y de 17 a 20 h (martes cerrado)\; 
 sábados de 11 a 13 h.\n\n&nbsp\;\n\n
ATTACH;FMTTYPE=image/jpeg:https://aragonsolidario.org/wp-content/uploads/2
 025/12/borjacerai.webp
CATEGORIES:ONGD FAS
LOCATION:Casa de las Conchas\, C. San Juan Alta\, 15\, Borja\, Zaragoza\, 5
 0540 \, España
GEO:41.835603;-1.532405
X-APPLE-STRUCTURED-LOCATION;VALUE=URI;X-ADDRESS=C. San Juan Alta\, 15\, Bor
 ja\, Zaragoza\, 50540 \, España;X-APPLE-RADIUS=100;X-TITLE=Casa de las Co
 nchas:geo:41.835603,-1.532405
END:VEVENT
BEGIN:VTIMEZONE
TZID:Europe/Madrid
X-LIC-LOCATION:Europe/Madrid
BEGIN:STANDARD
DTSTART:20251026T020000
TZOFFSETFROM:+0200
TZOFFSETTO:+0100
TZNAME:CET
END:STANDARD
END:VTIMEZONE
END:VCALENDAR