BEGIN:VCALENDAR
VERSION:2.0
PRODID:-//wp-events-plugin.com//7.2.3.1//EN
TZID:Europe/Madrid
X-WR-TIMEZONE:Europe/Madrid
BEGIN:VEVENT
UID:529@aragonsolidario.org
DTSTART;TZID=Europe/Madrid:20251105T143000
DTEND;TZID=Europe/Madrid:20251105T153000
DTSTAMP:20251104T073541Z
URL:https://aragonsolidario.org/eventos/conoce-piensa-actua-11-25
SUMMARY:Conoce\, Piensa\, Actúa. Trivial por la Ciudadanía Global
DESCRIPTION:Presentación participativa online del juego educativo “Conoc
 e\, Piensa\, Actúa. Trivial por la Ciudadanía Global”.\n\nInscripción
  en https://goo.su/5UFNd0z
ATTACH;FMTTYPE=image/jpeg:https://aragonsolidario.org/wp-content/uploads/2
 025/11/Presentacion_Trivial_ConocePiensaActua.webp
CATEGORIES:ONGD FAS
LOCATION:https://goo.su/5UFNd0z
END:VEVENT
BEGIN:VTIMEZONE
TZID:Europe/Madrid
X-LIC-LOCATION:Europe/Madrid
BEGIN:STANDARD
DTSTART:20251026T020000
TZOFFSETFROM:+0200
TZOFFSETTO:+0100
TZNAME:CET
END:STANDARD
END:VTIMEZONE
END:VCALENDAR