BEGIN:VCALENDAR
VERSION:2.0
PRODID:-//wp-events-plugin.com//7.2.3.1//EN
TZID:Europe/Madrid
X-WR-TIMEZONE:Europe/Madrid
BEGIN:VEVENT
UID:196@aragonsolidario.org
DTSTART;TZID=Europe/Madrid:20231122T190000
DTEND;TZID=Europe/Madrid:20231122T210000
DTSTAMP:20231114T090623Z
URL:https://aragonsolidario.org/eventos/conferencia-salud-incluyente-guate
 mala
SUMMARY:Conferencia salud incluyente Guatemala
DESCRIPTION:Medicus Mundi organiza el encuentro titulado “Cómo conseguir
  un sistema incluyente de salud en Guatemala. Papel de medicina y enfermer
 ía en la transformación de los sistemas de salud” con la participació
 n de Carlos Verdugo Urrejola\, médico especialista en políticas pública
 s de salud y exviceministro de salud de Guatemala\, y Juana Milian Chew en
 fermera especialista en salud comunitaria. Ambos pertenecen al Instituto d
 e Salud Incluyente de Guatemala\, de visita en Pamplona para recoger el XX
  Premio Internacional Navarra a la Solidaridad.\n\nMás información y enl
 ace de acceso: https://lasaludunderecho.es/2023/11/06/nos-visitan-desde-gu
 atemala-para-recoger-el-premio-navarra-a-la-solidaridad/
ATTACH;FMTTYPE=image/jpeg:https://aragonsolidario.org/wp-content/uploads/2
 023/11/medicusMED.webp
CATEGORIES:ONGD FAS
LOCATION:https://lasaludunderecho.es/2023/11/06/nos-visitan-desde-guatemala
 -para-recoger-el-premio-navarra-a-la-solidaridad/
END:VEVENT
BEGIN:VTIMEZONE
TZID:Europe/Madrid
X-LIC-LOCATION:Europe/Madrid
BEGIN:STANDARD
DTSTART:20231029T020000
TZOFFSETFROM:+0200
TZOFFSETTO:+0100
TZNAME:CET
END:STANDARD
END:VTIMEZONE
END:VCALENDAR