BEGIN:VCALENDAR
VERSION:2.0
PRODID:-//wp-events-plugin.com//7.2.3.1//EN
TZID:Europe/Madrid
X-WR-TIMEZONE:Europe/Madrid
BEGIN:VEVENT
UID:586@aragonsolidario.org
DTSTART;TZID=Europe/Madrid:20260323T180000
DTEND;TZID=Europe/Madrid:20260323T193000
DTSTAMP:20260319T151106Z
URL:https://aragonsolidario.org/eventos/conferencia-retos-uni-camp-ref-sah
 arauis
SUMMARY:Conferencia: Retos de la universidad en los campamentos de refugiad
 os saharauis
DESCRIPTION:\n\n\n\n\n\n\nLa Federación Aragonesa de Solidaridad\, junto a
  la Cátedra de Cooperación para el Desarrollo de la Universidad de Zarag
 oza\, organiza la conferencia “Retos de la universidad en los campamento
 s de refugiados saharauis”\, un espacio para acercarse a la realidad edu
 cativa del pueblo saharaui y reflexionar sobre los desafíos que afronta l
 a educación superior en los campamentos de refugiados. La actividad conta
 rá con las intervenciones de Moulay Mhamed Brahim\, rector de la Universi
 dad de Tifariti\, y Mohamed Said\, y se celebrará el 23 de marzo de 2026 
 a las 18:00 horas en el Salón de Actos de la Facultad de Economía y Empr
 esa\, Edificio Campus Paraíso de Zaragoza. Una propuesta para conocer de 
 primera mano esta experiencia y poner en valor la cooperación universitar
 ia y el derecho a la educación.\n\n\n\n\n\n\n\n\n\n\n\n\n
ATTACH;FMTTYPE=image/jpeg:https://aragonsolidario.org/wp-content/uploads/2
 026/03/charlaCAT26.webp
CATEGORIES:FAS
LOCATION:Salón de Actos Facultad de Economía y Empresa\, Gran Vía Santia
 go Ramón y Cajal\, 2\, Zaragoza\, 50005\, España
GEO:41.646554;-0.887843
X-APPLE-STRUCTURED-LOCATION;VALUE=URI;X-ADDRESS=Gran Vía Santiago Ramón y
  Cajal\, 2\, Zaragoza\, 50005\, España;X-APPLE-RADIUS=100;X-TITLE=Salón 
 de Actos Facultad de Economía y Empresa:geo:41.646554,-0.887843
END:VEVENT
BEGIN:VTIMEZONE
TZID:Europe/Madrid
X-LIC-LOCATION:Europe/Madrid
BEGIN:STANDARD
DTSTART:20251026T020000
TZOFFSETFROM:+0200
TZOFFSETTO:+0100
TZNAME:CET
END:STANDARD
END:VTIMEZONE
END:VCALENDAR