BEGIN:VCALENDAR
VERSION:2.0
PRODID:-//wp-events-plugin.com//7.2.3.1//EN
TZID:Europe/Madrid
X-WR-TIMEZONE:Europe/Madrid
BEGIN:VEVENT
UID:271@aragonsolidario.org
DTSTART;TZID=Europe/Madrid;VALUE=DATE:20240401
DTEND;TZID=Europe/Madrid;VALUE=DATE:20240509
DTSTAMP:20240503T105416Z
URL:https://aragonsolidario.org/eventos/concurso-foto-cambia-mirada
SUMMARY:4ª edición del concurso fotográfico solidario «Cambia tu mirada
 »
DESCRIPTION:Desde Cáritas Diocesana de Zaragoza convoca la cuarta edición
  del concurso de fotografía solidario “Cambia tu mirada” en el marco
  de la campaña institucional 2024-2025 “Allí donde nos necesitas. Abr
 imos camino a la ESPERANZA”.\nEl objetivo es animar a la sociedad a ca
 ptar imágenes en nuestro entorno local y global\, que reflejen gestos de 
 cercanía\, cuidado\, fraternidad universal y solidaridad que permitan lan
 zar un mensaje de esperanza para promover un mundo más humano.\n&nbsp\;
ATTACH;FMTTYPE=image/jpeg:https://aragonsolidario.org/wp-content/uploads/2
 024/03/dCARITAS.webp
CATEGORIES:ONGD FAS
LOCATION:https://www.caritas-zaragoza.org/blog/lanzamiento-de-la-4a-edicion
 -del-concurso-fotografico-solidario-cambia-tu-mirada/
END:VEVENT
BEGIN:VTIMEZONE
TZID:Europe/Madrid
X-LIC-LOCATION:Europe/Madrid
BEGIN:DAYLIGHT
DTSTART:20240331T030000
TZOFFSETFROM:+0100
TZOFFSETTO:+0200
TZNAME:CEST
END:DAYLIGHT
END:VTIMEZONE
END:VCALENDAR