BEGIN:VCALENDAR
VERSION:2.0
PRODID:-//wp-events-plugin.com//7.2.3.1//EN
TZID:Europe/Madrid
X-WR-TIMEZONE:Europe/Madrid
BEGIN:VEVENT
UID:556@aragonsolidario.org
DTSTART;TZID=Europe/Madrid:20251220T200000
DTEND;TZID=Europe/Madrid:20251220T220000
DTSTAMP:20251215T145538Z
URL:https://aragonsolidario.org/eventos/concierto-solidario-estrella-padua
 -25
SUMMARY:Concierto solidario ciclo Moncayo XMAS FACTORY
DESCRIPTION:ESTRELLA DE LA MAÑANA organiza.\n\nAcompáñanos y déjate lle
 var por un arrullo de voces que envuelven\, emocionan y despiertan. Pero n
 o te confíes… porque cuando menos lo esperes comienza la marcha\, el ri
 tmo se acelera y la energía invade el espacio. ¿Estás preparado para vi
 vir una experiencia vocal diferente?\n\nVocal Factory no es un coro al uso
 . Es un espectáculo sonoro vivo\, creativo y sorprendente\, donde las voc
 es se convierten en instrumentos\, paisajes y emociones. Cada pieza es una
  pequeña historia cantada\, reinterpretando la música navideña desde un
 a mirada fresca\, contemporánea y profundamente humana.\n\nEste concierto
  forma parte del Ciclo Moncayo de Música Solidaria\, una propuesta cultu
 ral que une arte y compromiso social. La recaudación irá destinada ínte
 gramente a los proyectos de cooperación internacional de la ONG Estrella
  de la Mañana\, centrados en garantizar el acceso a la educación superio
 r de jóvenes sin recursos en la India\, especialmente en contextos de vul
 nerabilidad y exclusión.\n\nAsistir a este concierto no es solo disfrutar
  de buena música:\n\nEs regalar oportunidades\, abrir caminos de futuro y
  demostrar que la cultura también puede ser una poderosa herramienta de t
 ransformación social.\n\nVocal Factory no es un coro\, es otra historia\;
  ¿te la cantamos?\n\nEsta Navidad\, deja que la música también sea soli
 daria.\n\n
ATTACH;FMTTYPE=image/jpeg:https://aragonsolidario.org/wp-content/uploads/2
 025/12/20-dic-cartel-vocal-Factory.webp
CATEGORIES:ONGD FAS
LOCATION:Iglesia San Antonio de Padua\, P.º de Cuéllar\, 10\, Zaragoza\, 
 50006 \, España
GEO:41.634673;-0.885251
X-APPLE-STRUCTURED-LOCATION;VALUE=URI;X-ADDRESS=P.º de Cuéllar\, 10\, Zar
 agoza\, 50006 \, España;X-APPLE-RADIUS=100;X-TITLE=Iglesia San Antonio de
  Padua:geo:41.634673,-0.885251
END:VEVENT
BEGIN:VTIMEZONE
TZID:Europe/Madrid
X-LIC-LOCATION:Europe/Madrid
BEGIN:STANDARD
DTSTART:20251026T020000
TZOFFSETFROM:+0200
TZOFFSETTO:+0100
TZNAME:CET
END:STANDARD
END:VTIMEZONE
END:VCALENDAR