BEGIN:VCALENDAR
VERSION:2.0
PRODID:-//wp-events-plugin.com//7.2.3.1//EN
TZID:Europe/Madrid
X-WR-TIMEZONE:Europe/Madrid
BEGIN:VEVENT
UID:536@aragonsolidario.org
DTSTART;TZID=Europe/Madrid:20251128T193000
DTEND;TZID=Europe/Madrid:20251128T210000
DTSTAMP:20251117T124813Z
URL:https://aragonsolidario.org/eventos/concierto-solidario-coros
SUMMARY:Concierto solidario “Coros y romanzas de zarzuela”
DESCRIPTION:El próximo 28 de noviembre a las 19:30 h\, en el Salón de Act
 os del Centro Pignatelli (Pº Constitución 6\, Zaragoza)\, tendrá lugar 
 el Concierto solidario “Coros y romanzas de zarzuela”\, organizado por
  la Asociación Musical “Tempo Giusto” a beneficio de Manos Unidas.\n\
 nSerá una velada única en la que el talento y la generosidad se darán l
 a mano. Participarán destacados artistas como Mariángel Vásquez y Ali
 cia Sola (sopranos)\, Fabio Scé (tenor)\, Emilio Segura (barítono)\
 , Mario Correa (bajo)\, junto con el Coro Tempo Giusto\, bajo la direcc
 ión de Ricardo Soláns Armillas y con Javier Montañés al piano.\n\n
 &nbsp\;\n\n
ATTACH;FMTTYPE=image/jpeg:https://aragonsolidario.org/wp-content/uploads/2
 025/11/manosunidasconcierto25.webp
CATEGORIES:ONGD FAS
LOCATION:Centro Pignatelli\, P.º de la Constitución\, 6\, Zaragoza\, Zara
 goza\, 50008\, España
GEO:41.647252;-0.883937
X-APPLE-STRUCTURED-LOCATION;VALUE=URI;X-ADDRESS=P.º de la Constitución\, 
 6\, Zaragoza\, Zaragoza\, 50008\, España;X-APPLE-RADIUS=100;X-TITLE=Centr
 o Pignatelli:geo:41.647252,-0.883937
END:VEVENT
BEGIN:VTIMEZONE
TZID:Europe/Madrid
X-LIC-LOCATION:Europe/Madrid
BEGIN:STANDARD
DTSTART:20251026T020000
TZOFFSETFROM:+0200
TZOFFSETTO:+0100
TZNAME:CET
END:STANDARD
END:VTIMEZONE
END:VCALENDAR