BEGIN:VCALENDAR
VERSION:2.0
PRODID:-//wp-events-plugin.com//7.2.3.1//EN
TZID:Europe/Madrid
X-WR-TIMEZONE:Europe/Madrid
BEGIN:VEVENT
UID:516@aragonsolidario.org
DTSTART;TZID=Europe/Madrid:20251120T184500
DTEND;TZID=Europe/Madrid:20251120T184500
DTSTAMP:20251103T091517Z
URL:https://aragonsolidario.org/eventos/concierto-encuentro-con-america-25
SUMMARY:Concierto "Encuentro con América".
DESCRIPTION:Concierto gratuito organizado por ASA y Huauquipura en el que s
 e presentará el impacto de dos proyectos de cooperación en Bolivia y Ecu
 ador y se podrá disfrutar de música en directo\, una degustación de com
 ida ecuatoriana y un sorteo de productos de comercio justo. ¡Os esperamos
 !\n\nhttps://huauquipura.org/concierto-solidario-encuentro-con-america/
ATTACH;FMTTYPE=image/jpeg:https://aragonsolidario.org/wp-content/uploads/2
 025/11/Concierto-Solidario-ASAHQ.png
CATEGORIES:ONGD FAS
LOCATION:Casa de las Culturas\, C. de José Palafox\, 29\, Zaragoza\, 50001
 \, España
GEO:41.65341;-0.872988
X-APPLE-STRUCTURED-LOCATION;VALUE=URI;X-ADDRESS=C. de José Palafox\, 29\, 
 Zaragoza\, 50001\, España;X-APPLE-RADIUS=100;X-TITLE=Casa de las Culturas
 :geo:41.65341,-0.872988
END:VEVENT
BEGIN:VTIMEZONE
TZID:Europe/Madrid
X-LIC-LOCATION:Europe/Madrid
BEGIN:STANDARD
DTSTART:20251026T020000
TZOFFSETFROM:+0200
TZOFFSETTO:+0100
TZNAME:CET
END:STANDARD
END:VTIMEZONE
END:VCALENDAR