BEGIN:VCALENDAR
VERSION:2.0
PRODID:-//wp-events-plugin.com//7.2.3.1//EN
TZID:Europe/Madrid
X-WR-TIMEZONE:Europe/Madrid
BEGIN:VEVENT
UID:581@aragonsolidario.org
DTSTART;TZID=Europe/Madrid:20260320T193000
DTEND;TZID=Europe/Madrid:20260320T210000
DTSTAMP:20260309T093143Z
URL:https://aragonsolidario.org/eventos/concierto-benefico-manos-unidas-20
 m
SUMMARY:Concierto benéfico para Manos Unidas
DESCRIPTION:Zaragoza acogerá el viernes 20 de marzo a las 19:30 horas un c
 oncierto benéfico del Stabat Mater de Gioachino Rossini\, dentro del Cicl
 o de Música Sacra 2026. La actuación\, organizada en el marco de este ci
 clo con la participación de la Asociación Musical Tempo Giusto\, tendrá
  lugar en el salón de actos de Caja Rural de Aragón y estará dedicada a
  apoyar la labor de Manos Unidas. El concierto contará con las voces soli
 stas de Mariángel Vásquez\, Olena Panasyuk\, Alain Damas y Víctor Garc
 ía\, junto al Coro y Orquesta Tempo Giusto\, que celebra su 20 aniversari
 o\, bajo la dirección de Ricardo Soláns Armillas.\n\nMás allá de su va
 lor artístico y espiritual\, el concierto tiene un claro fin solidario: r
 ecaudar fondos para los proyectos de desarrollo que Manos Unidas impulsa e
 n países de África\, Asia y América\, centrados en ámbitos como educac
 ión\, acceso al agua\, apoyo a las mujeres o formación agrícola.\n\nLas
  entradas pueden adquirirse mediante un donativo de 10 € en la delegaci
 ón de Manos Unidas en Zaragoza:\n\nDelegación de Manos Unidas – Zarag
 oza\nPlaza de La Seo\, 6. "Casa de la Iglesia". 2ª planta\, oficina 220\n
 Horario de atención: de 11:00 a 13:00 h\n\n\n\n
ATTACH;FMTTYPE=image/jpeg:https://aragonsolidario.org/wp-content/uploads/2
 026/03/1000201244.webp
CATEGORIES:ONGD FAS
LOCATION:Caja Rural de Aragón\, C. del Coso\, 29\, Zaragoza\, 50003 \, Esp
 aña
GEO:41.653035;-0.881256
X-APPLE-STRUCTURED-LOCATION;VALUE=URI;X-ADDRESS=C. del Coso\, 29\, Zaragoza
 \, 50003 \, España;X-APPLE-RADIUS=100;X-TITLE=Caja Rural de Aragón:geo:4
 1.653035,-0.881256
END:VEVENT
BEGIN:VTIMEZONE
TZID:Europe/Madrid
X-LIC-LOCATION:Europe/Madrid
BEGIN:STANDARD
DTSTART:20251026T020000
TZOFFSETFROM:+0200
TZOFFSETTO:+0100
TZNAME:CET
END:STANDARD
END:VTIMEZONE
END:VCALENDAR