BEGIN:VCALENDAR
VERSION:2.0
PRODID:-//wp-events-plugin.com//7.2.3.1//EN
TZID:Europe/Madrid
X-WR-TIMEZONE:Europe/Madrid
BEGIN:VEVENT
UID:83@aragonsolidario.org
DTSTART;TZID=Europe/Madrid:20230419T120000
DTEND;TZID=Europe/Madrid:20230419T120500
DTSTAMP:20230417T091703Z
URL:https://aragonsolidario.org/eventos/concentracion-migrar-es-un-derecho
 -19-abril
SUMMARY:Concentración MIGRAR es un derecho 19 abril
DESCRIPTION:Concentración de 5 minutos de silencio por las 114 personas fa
 llecidas tratando de llegar a costas españolas en lo que llevamos de año
  y según la OIM.\n\nPor las 11.286 personas fallecidas en los últimos 5 
 años en la Frontera Occidental Euroafricana según el colectivo Caminando
  Fronteras.\n\nPor todas las personas fallecidas en las fronteras.\n\nSEgu
 iremos convocaneo el tercer miércoles de cada mes que haya una sola perso
 na fallecida. Y reclamamos que sean las propias administraciones quienes l
 o hagan\, porque todas las vidas importan.\n\nNo más muertes en las front
 eras.\n\nMIGRAR #EsUnDerecho\n\n
ATTACH;FMTTYPE=image/jpeg:https://aragonsolidario.org/wp-content/uploads/2
 023/04/imageCONCEN.webp
CATEGORIES:FAS
LOCATION:Delegación del Gobierno\, Zaragoza\, Pl. de Ntra. Sra. del Pilar\
 , s/n\, Zaragoza\, Zaragoza\, 50003\, España
GEO:41.656436;-0.878674
X-APPLE-STRUCTURED-LOCATION;VALUE=URI;X-ADDRESS=Pl. de Ntra. Sra. del Pilar
 \, s/n\, Zaragoza\, Zaragoza\, 50003\, España;X-APPLE-RADIUS=100;X-TITLE=
 Delegación del Gobierno\, Zaragoza:geo:41.656436,-0.878674
END:VEVENT
BEGIN:VTIMEZONE
TZID:Europe/Madrid
X-LIC-LOCATION:Europe/Madrid
BEGIN:DAYLIGHT
DTSTART:20230326T030000
TZOFFSETFROM:+0100
TZOFFSETTO:+0200
TZNAME:CEST
END:DAYLIGHT
END:VTIMEZONE
END:VCALENDAR