BEGIN:VCALENDAR
VERSION:2.0
PRODID:-//wp-events-plugin.com//7.2.3.1//EN
TZID:Europe/Madrid
X-WR-TIMEZONE:Europe/Madrid
BEGIN:VEVENT
UID:553@aragonsolidario.org
DTSTART;TZID=Europe/Madrid:20251217T120000
DTEND;TZID=Europe/Madrid:20251217T120500
DTSTAMP:20251215T102934Z
URL:https://aragonsolidario.org/eventos/concentracion-migrar-17d25
SUMMARY:Concentración MIGRAR es un derecho 17 dic 2025
DESCRIPTION:Zaragoza acogerá una nueva concentración en defensa de los de
 rechos humanos bajo el lema “Migrar es un derecho”\, que tendrá lugar
  el miércoles 17 de diciembre de 2025\, a las 12:00 horas\, en la Plaza d
 e España. La convocatoria incluirá cinco minutos de silencio en memoria 
 de las personas que han perdido la vida en las rutas migratorias hacia Esp
 aña: 623 personas fallecidas en lo que va de 2025\, según la OIM\, y 1.8
 65 personas fallecidas y desaparecidas en los cinco primeros meses del añ
 o\, de acuerdo con el colectivo Caminando Fronteras. Con esta acción\, la
 s entidades convocantes reclaman el fin de las muertes en las fronteras y 
 reiteran su compromiso de seguir visibilizando esta realidad cada tercer m
 iércoles de mes\, mientras una sola vida siga perdiéndose.\n\n
ATTACH;FMTTYPE=image/jpeg:https://aragonsolidario.org/wp-content/uploads/2
 025/12/WhatsApp-Image-2025-12-15-at-11.10.10.webp
CATEGORIES:FAS
LOCATION:Plaza de España - Zaragoza\, Pl. de España\, 2\, Zaragoza\, 5000
 4\, España
GEO:41.65233;-0.881778
X-APPLE-STRUCTURED-LOCATION;VALUE=URI;X-ADDRESS=Pl. de España\, 2\, Zarago
 za\, 50004\, España;X-APPLE-RADIUS=100;X-TITLE=Plaza de España - Zaragoz
 a:geo:41.65233,-0.881778
END:VEVENT
BEGIN:VTIMEZONE
TZID:Europe/Madrid
X-LIC-LOCATION:Europe/Madrid
BEGIN:STANDARD
DTSTART:20251026T020000
TZOFFSETFROM:+0200
TZOFFSETTO:+0100
TZNAME:CET
END:STANDARD
END:VTIMEZONE
END:VCALENDAR