BEGIN:VCALENDAR
VERSION:2.0
PRODID:-//wp-events-plugin.com//7.2.3.1//EN
TZID:Europe/Madrid
X-WR-TIMEZONE:Europe/Madrid
BEGIN:VEVENT
UID:508@aragonsolidario.org
DTSTART;TZID=Europe/Madrid;VALUE=DATE:20251107
DTEND;TZID=Europe/Madrid;VALUE=DATE:20251113
DTSTAMP:20251024T074720Z
URL:https://aragonsolidario.org/eventos/colombia-extractivismo-ddhh-2025
SUMMARY:Colombia\, ¿Extractivismo o Derechos Humanos?
DESCRIPTION:El Comité Internacionalista organiza tres charlas-debate con F
 reddy Díaz\, director del CEDINS (Corporación para la Educación y la In
 vestigación Popular Instituto Nacional Sindical) y militante del Congreso
  de los Pueblos de Colombia\, nos acercan a la realidad del país y a la d
 efensa de la vida frente al modelo extractivista.\n\n📍 Perdiguera · Vi
 ernes 7 nov · 19:00h · Casa del Parque\n📍 Zaragoza · Martes 11 nov 
 · 17:30h · Colegio de Abogados\n📍 Calatayud · Miércoles 12 nov · 1
 8:00h · Sede CGT\n\n\n\n\n\n
ATTACH;FMTTYPE=image/jpeg:https://aragonsolidario.org/wp-content/uploads/2
 025/10/Freddy-Perdiguera-1.webp
CATEGORIES:ONGD FAS
END:VEVENT
BEGIN:VTIMEZONE
TZID:Europe/Madrid
X-LIC-LOCATION:Europe/Madrid
BEGIN:STANDARD
DTSTART:20251026T020000
TZOFFSETFROM:+0200
TZOFFSETTO:+0100
TZNAME:CET
END:STANDARD
END:VTIMEZONE
END:VCALENDAR