BEGIN:VCALENDAR
VERSION:2.0
PRODID:-//wp-events-plugin.com//7.2.3.1//EN
TZID:Europe/Madrid
X-WR-TIMEZONE:Europe/Madrid
BEGIN:VEVENT
UID:419@aragonsolidario.org
DTSTART;TZID=Europe/Madrid:20250312T180000
DTEND;TZID=Europe/Madrid:20250429T203000
DTSTAMP:20250310T105418Z
URL:https://aragonsolidario.org/eventos/cine-coop-aragon
SUMMARY:Cine y Cooperación Internacional desde Aragón
DESCRIPTION:El valor de la Cooperación Internacional y el Comercio Justo s
 e hace visible a través del cine en un ciclo especial que tendrá lugar e
 n el Centro Joaquín Roncal de Zaragoza. A lo largo de cuatro sesiones\, s
 e proyectarán películas y documentales que abordan diversas realidades s
 ociales y globales\, seguidas de un coloquio con entidades aragonesas que 
 desarrollan proyectos de Cooperación al Desarrollo.\nCada proyección con
 tará con la participación de una organización invitada\, que aportará 
 su experiencia y conocimiento sobre la temática tratada en la película.\
 nFechas y programación\nMiércoles\, 12 de marzo\n\n\n 	Maman Colonelle (
 Dieudo Hamadi\, 2017\, República del Congo) – 72 min. VOSE\n 	Entidad i
 nvitada: MEDICUSMUNDI\n\nMiércoles\, 26 de marzo\n\n\n 	La luz que imagin
 amos (Payal Kapadia\, 2024\, India) – 118 min. VOSE\n 	Entidad invitada:
  Fundación Isabel Martín\n\nMiércoles\, 9 de abril\n\n\n 	Temps d’éc
 oute (Pol Penas\, 2016\, España) – 35 min. VOSE\n 	Entidad invitada: FA
 RMAMUNDI\n\nMartes\, 29 de abril\n\n\n 	Marcher sur l’eau (Aïssa Maïga
 \, 2021\, Francia-Bélgica-Níger) – 90 min. VOSE\n 	Entidad invitada: A
 cción Social Católica\n\n\n\n\n\nEsta iniciativa es posible gracias a la
  colaboración de Fundación Caja Inmaculada\, Acción Social Católica y 
 el Gobierno de Aragón.\n\n\n\n
ATTACH;FMTTYPE=image/jpeg:https://aragonsolidario.org/wp-content/uploads/2
 025/03/Cartel-Cine-y-coop-2025.webp
CATEGORIES:ONGD FAS
LOCATION:Centro Joaquín Roncal\, C. de San Braulio\, 5\, Zaragoza\, 50003\
 , España
GEO:41.654686;-0.879386
X-APPLE-STRUCTURED-LOCATION;VALUE=URI;X-ADDRESS=C. de San Braulio\, 5\, Zar
 agoza\, 50003\, España;X-APPLE-RADIUS=100;X-TITLE=Centro Joaquín Roncal:
 geo:41.654686,-0.879386
END:VEVENT
BEGIN:VTIMEZONE
TZID:Europe/Madrid
X-LIC-LOCATION:Europe/Madrid
BEGIN:STANDARD
DTSTART:20241027T020000
TZOFFSETFROM:+0200
TZOFFSETTO:+0100
TZNAME:CET
END:STANDARD
BEGIN:DAYLIGHT
DTSTART:20250330T030000
TZOFFSETFROM:+0100
TZOFFSETTO:+0200
TZNAME:CEST
END:DAYLIGHT
END:VTIMEZONE
END:VCALENDAR