BEGIN:VCALENDAR
VERSION:2.0
PRODID:-//wp-events-plugin.com//7.2.3.1//EN
TZID:Europe/Madrid
X-WR-TIMEZONE:Europe/Madrid
BEGIN:VEVENT
UID:543@aragonsolidario.org
DTSTART;TZID=Europe/Madrid:20251212T200000
DTEND;TZID=Europe/Madrid:20251212T220000
DTSTAMP:20251201T094714Z
URL:https://aragonsolidario.org/eventos/ciclo-moncayo-musica-solidaria
SUMMARY:Ciclo Moncayo - Música Solidaria
DESCRIPTION:El coro Vexilla Regis\, dirigido por Ana Cristina Vicente Pimpi
 nela\, ofrecerá el concierto “Gaudete. Ecos de Adviento” el viernes 1
 2 de diciembre a las 20 h en la Iglesia de la Mantería (Plaza San Roque\,
  Zaragoza).Las entradas y la fila cero están disponibles AQUÍ y en taqu
 illa una hora antes del inicio.\n\nEn beneficio de Estrella de la Mañana 
 y Acción Solidaria Aragonesa
ATTACH;FMTTYPE=image/jpeg:https://aragonsolidario.org/wp-content/uploads/2
 025/12/12-dic-cartel-Vexilla-Regis.webp
CATEGORIES:ONGD FAS
LOCATION:Iglesia de la Mantería\, Plaza San Roque\, Zaragoza\, 50004 \, Es
 paña
GEO:41.653312;-0.882968
X-APPLE-STRUCTURED-LOCATION;VALUE=URI;X-ADDRESS=Plaza San Roque\, Zaragoza\
 , 50004 \, España;X-APPLE-RADIUS=100;X-TITLE=Iglesia de la Mantería:geo:
 41.653312,-0.882968
END:VEVENT
BEGIN:VTIMEZONE
TZID:Europe/Madrid
X-LIC-LOCATION:Europe/Madrid
BEGIN:STANDARD
DTSTART:20251026T020000
TZOFFSETFROM:+0200
TZOFFSETTO:+0100
TZNAME:CET
END:STANDARD
END:VTIMEZONE
END:VCALENDAR