BEGIN:VCALENDAR
VERSION:2.0
PRODID:-//wp-events-plugin.com//7.2.3.1//EN
TZID:Europe/Madrid
X-WR-TIMEZONE:Europe/Madrid
BEGIN:VEVENT
UID:503@aragonsolidario.org
DTSTART;TZID=Europe/Madrid:20251030T190000
DTEND;TZID=Europe/Madrid:20251030T200000
DTSTAMP:20251020T074521Z
URL:https://aragonsolidario.org/eventos/charla-factura-luz-torrero
SUMMARY:Charla Entendiendo la factura de la luz
DESCRIPTION:En la charla que pretende concienciar a la población acerca de
  la importancia del acceso a servicios energéticos de calidad\, accesible
 s y asequibles para todas las personas.\n\nEn la charla aprenderemos a lee
 r cada uno de los apartados de la factura de luz y se debatirá sobre las 
 causas y consecuencias de la pobreza energética\, y las alternativas que 
 existen para evitarla.\n\nTrae una factura de luz.\n\n
ATTACH;FMTTYPE=image/jpeg:https://aragonsolidario.org/wp-content/uploads/2
 025/10/Charla-Factura-AV-Venencia-301025.webp
CATEGORIES:ONGD FAS
LOCATION:Asociación Vecinal Venecia\, C. de Granada\, 43\, Zaragoza\, 5000
 7\, España
GEO:41.629721;-0.890194
X-APPLE-STRUCTURED-LOCATION;VALUE=URI;X-ADDRESS=C. de Granada\, 43\, Zarago
 za\, 50007\, España;X-APPLE-RADIUS=100;X-TITLE=Asociación Vecinal Veneci
 a:geo:41.629721,-0.890194
END:VEVENT
BEGIN:VTIMEZONE
TZID:Europe/Madrid
X-LIC-LOCATION:Europe/Madrid
BEGIN:STANDARD
DTSTART:20251026T020000
TZOFFSETFROM:+0200
TZOFFSETTO:+0100
TZNAME:CET
END:STANDARD
END:VTIMEZONE
END:VCALENDAR