BEGIN:VCALENDAR
VERSION:2.0
PRODID:-//wp-events-plugin.com//7.2.3.1//EN
TZID:Europe/Madrid
X-WR-TIMEZONE:Europe/Madrid
BEGIN:VEVENT
UID:513@aragonsolidario.org
DTSTART;TZID=Europe/Madrid:20251118T160000
DTEND;TZID=Europe/Madrid:20251118T170000
DTSTAMP:20251103T085141Z
URL:https://aragonsolidario.org/eventos/cafe-te-mikel-ayestaran-25
SUMMARY:Café o Té con Mikel Ayestarán
DESCRIPTION:Laintersección organiza una charla online con el periodista y 
 escritor Mikel Ayestaran.\n\nMás info: https://lainterseccion.net/proyect
 os/formacion-gestion-de-medios-y-estrategias-para-ocupar-la-conversacion-p
 ublica/\n\n&nbsp\;
ATTACH;FMTTYPE=image/jpeg:https://aragonsolidario.org/wp-content/uploads/2
 025/11/cafe-te.webp
CATEGORIES:Otras entidades
LOCATION:https://us6.list-manage.com/survey?u=8d067b9a027baf872b370d719&id=
 3383876145&attribution=false&mc_cid=571b66912f&mc_eid=eb6fb4f540&e=eb6fb4f
 540
END:VEVENT
BEGIN:VTIMEZONE
TZID:Europe/Madrid
X-LIC-LOCATION:Europe/Madrid
BEGIN:STANDARD
DTSTART:20251026T020000
TZOFFSETFROM:+0200
TZOFFSETTO:+0100
TZNAME:CET
END:STANDARD
END:VTIMEZONE
END:VCALENDAR