BEGIN:VCALENDAR
VERSION:2.0
PRODID:-//wp-events-plugin.com//7.2.3.1//EN
TZID:Europe/Madrid
X-WR-TIMEZONE:Europe/Madrid
BEGIN:VEVENT
UID:214@aragonsolidario.org
DTSTART;TZID=Europe/Madrid;VALUE=DATE:20231205
DTEND;TZID=Europe/Madrid;VALUE=DATE:20240101
DTSTAMP:20231204T134326Z
URL:https://aragonsolidario.org/eventos/buses-zaragoza-unrwa-salud
SUMMARY:Los autobuses de Zaragoza te acercan al programa de salud de UNRWA 
 en Cisjordania
DESCRIPTION:Por el derecho a la salud de la población refugiada de Palesti
 na\n\nAutobuses urbanos AVANZA Zaragoza\n\nLa ocupación militar\, junto c
 on las restricciones al movimiento de personas y materiales\, y los contin
 uos episodios de violencia en Cisjordania\, han debilitado notablemente el
  sistema sanitario palestino.\n\nUNRWA\, la Agencia de Naciones Unidas par
 a la población refugiada de Palestina en Oriente Próximo\, trabaja desde
  hace casi 75 años por el derecho a la salud de esta población mediante 
 el funcionamiento de una red de centros de atención primaria\, clínicas 
 móviles y su hospital en Cisjordania.\n\nGracias al apoyo del Ayuntamient
 o de Zaragoza\, UNRWA ha reforzado su Programa de Salud\, con la adquisici
 ón de equipos médicos principalmente de ginecología\, pediatría y radi
 ología para sus centros de salud y el hospital\, garantizando con ello el
  acceso a una atención sanitaria de calidad de más de 37.800 personas re
 fugiadas en el año 2023.\n\nSi estas en Zaragoza y te mueves en autobús
 …del 5 al 31 de diciembre podrás escuchar los testimonios de Anwar y Ha
 ya Al-Safi\, dos mujeres refugiadas de Palestina\, usuarias de nuestros  
 servicios de salud.\n\nPara ello: \n\n 	    Busca el vinilo dentro de 
 los autobuses\n 	    Escanea el código QR\n 	    Escucha y conecta 
 con las historias.\n
ATTACH;FMTTYPE=image/jpeg:https://aragonsolidario.org/wp-content/uploads/2
 023/12/busesunr.webp
CATEGORIES:ONGD FAS
LOCATION:Buses Zaragoza\, Zaragoza\, Zaragoza\, España
GEO:41.648823;-0.889085
X-APPLE-STRUCTURED-LOCATION;VALUE=URI;X-ADDRESS=Zaragoza\, Zaragoza\, Espa
 ña;X-APPLE-RADIUS=100;X-TITLE=Buses Zaragoza:geo:41.648823,-0.889085
END:VEVENT
BEGIN:VTIMEZONE
TZID:Europe/Madrid
X-LIC-LOCATION:Europe/Madrid
BEGIN:STANDARD
DTSTART:20231029T020000
TZOFFSETFROM:+0200
TZOFFSETTO:+0100
TZNAME:CET
END:STANDARD
END:VTIMEZONE
END:VCALENDAR