BEGIN:VCALENDAR
VERSION:2.0
PRODID:-//wp-events-plugin.com//7.2.3.1//EN
TZID:Europe/Madrid
X-WR-TIMEZONE:Europe/Madrid
BEGIN:VEVENT
UID:590@aragonsolidario.org
DTSTART;TZID=Europe/Madrid:20260429T183000
DTEND;TZID=Europe/Madrid:20260429T200000
DTSTAMP:20260401T081853Z
URL:https://aragonsolidario.org/eventos/aragon-bajo-inercia-belica
SUMMARY:Aragón bajo la inercia bélica
DESCRIPTION:
ATTACH;FMTTYPE=image/jpeg:https://aragonsolidario.org/wp-content/uploads/2
 026/04/arainfoBELICA.webp
CATEGORIES:Otras entidades
LOCATION:Centro Joaquín Roncal\, C. de San Braulio\, 5\, Zaragoza\, 50003\
 , España
GEO:41.654686;-0.879386
X-APPLE-STRUCTURED-LOCATION;VALUE=URI;X-ADDRESS=C. de San Braulio\, 5\, Zar
 agoza\, 50003\, España;X-APPLE-RADIUS=100;X-TITLE=Centro Joaquín Roncal:
 geo:41.654686,-0.879386
END:VEVENT
BEGIN:VTIMEZONE
TZID:Europe/Madrid
X-LIC-LOCATION:Europe/Madrid
BEGIN:DAYLIGHT
DTSTART:20260329T030000
TZOFFSETFROM:+0100
TZOFFSETTO:+0200
TZNAME:CEST
END:DAYLIGHT
END:VTIMEZONE
END:VCALENDAR