BEGIN:VCALENDAR
VERSION:2.0
PRODID:-//wp-events-plugin.com//7.2.3.1//EN
TZID:Europe/Madrid
X-WR-TIMEZONE:Europe/Madrid
BEGIN:VEVENT
UID:95@aragonsolidario.org
DTSTART;TZID=Europe/Madrid:20230429T090000
DTEND;TZID=Europe/Madrid:20230429T140000
DTSTAMP:20230425T112252Z
URL:https://aragonsolidario.org/eventos/africa-se-pinta-2023
SUMMARY:Construyendo  solidaridad a través del arte\, "ÁFRICA SE PINTA"
DESCRIPTION:Construyendo  solidaridad a través del arte\,  "ÁFRICA SE P
 INTA"\n\nConstrucción de una obra artística colaborativa. Mural con moti
 vos africanos. Ilustraciones realizadas por los niños de infantil y prima
 ria del centro\, sobre tematica de cuentos tradicionales africanos.\n\nOrg
 aniza C.C.ONG .\n\nCEIP Sancho Ramírez\, Huesca. viernes 29 de marzo\, d
 e 9\,00 a 14\,00h\nDirección: C. Torre Mendoza\, 1\, 22005 Huesca\nTeléf
 ono: 974 24 24 83\n\n&nbsp\;\n\nLink para más información:\n\n https://w
 ww.cconghuesca.es/eventos/
ATTACH;FMTTYPE=image/jpeg:https://aragonsolidario.org/wp-content/uploads/2
 023/04/ACTIVIDAD3.webp
CATEGORIES:ONGD FAS
LOCATION:CEIP Sancho Ramírez\, C. Torre Mendoza\, 1\, Huesca\, 22005\, Esp
 aña
GEO:42.135679;-0.404159
X-APPLE-STRUCTURED-LOCATION;VALUE=URI;X-ADDRESS=C. Torre Mendoza\, 1\, Hues
 ca\, 22005\, España;X-APPLE-RADIUS=100;X-TITLE=CEIP Sancho Ramírez:geo:4
 2.135679,-0.404159
END:VEVENT
BEGIN:VTIMEZONE
TZID:Europe/Madrid
X-LIC-LOCATION:Europe/Madrid
BEGIN:DAYLIGHT
DTSTART:20230326T030000
TZOFFSETFROM:+0100
TZOFFSETTO:+0200
TZNAME:CEST
END:DAYLIGHT
END:VTIMEZONE
END:VCALENDAR