BEGIN:VCALENDAR
VERSION:2.0
PRODID:-//wp-events-plugin.com//7.2.3.1//EN
TZID:Europe/Madrid
X-WR-TIMEZONE:Europe/Madrid
BEGIN:VEVENT
UID:511@aragonsolidario.org
DTSTART;TZID=Europe/Madrid:20251114T120000
DTEND;TZID=Europe/Madrid:20251114T120000
DTSTAMP:20251103T082709Z
URL:https://aragonsolidario.org/eventos/acto-institucional-50-anos-de-medi
 cus-mundi-en-aragon
SUMMARY:Acto institucional. 50 años de Medicus Mundi en Aragón.
DESCRIPTION:Proyección de un vídeo conmemorativo y palabras de las instit
 uciones que nos han apoyado y con las que trabajamos en red. Al final\, n
 úmero musical a cargo de Fernando Muñoz (FolkyBard) y Diego Sanchez (Gat
 s B) Por razón de aforo\, si fuera posible se ruega confirmar asistencia 
 previamente a aragon@medicusmundi.es\n\nMás info: https://lasaludunderech
 o.es/2025/10/31/cincuenta-anos-de-medicus-mundi-en-aragon/
ATTACH;FMTTYPE=image/jpeg:https://aragonsolidario.org/wp-content/uploads/2
 025/11/LOGO-50-aniv-ARA-scaled.webp
CATEGORIES:ONGD FAS
LOCATION:Centro Joaquín Roncal\, C. de San Braulio\, 5\, Zaragoza\, 50003\
 , España
GEO:41.654686;-0.879386
X-APPLE-STRUCTURED-LOCATION;VALUE=URI;X-ADDRESS=C. de San Braulio\, 5\, Zar
 agoza\, 50003\, España;X-APPLE-RADIUS=100;X-TITLE=Centro Joaquín Roncal:
 geo:41.654686,-0.879386
END:VEVENT
BEGIN:VTIMEZONE
TZID:Europe/Madrid
X-LIC-LOCATION:Europe/Madrid
BEGIN:STANDARD
DTSTART:20251026T020000
TZOFFSETFROM:+0200
TZOFFSETTO:+0100
TZNAME:CET
END:STANDARD
END:VTIMEZONE
END:VCALENDAR