BEGIN:VCALENDAR
VERSION:2.0
PRODID:-//wp-events-plugin.com//7.2.3.1//EN
TZID:Europe/Madrid
X-WR-TIMEZONE:Europe/Madrid
BEGIN:VEVENT
UID:417@aragonsolidario.org
DTSTART;TZID=Europe/Madrid;VALUE=DATE:20250304
DTEND;TZID=Europe/Madrid;VALUE=DATE:20250309
DTSTAMP:20250304T094818Z
URL:https://aragonsolidario.org/eventos/8m-aragon-2025
SUMMARY:8M en Aragón
DESCRIPTION:A lo largo de la semana se realizan por todo Aragón diferentes
  actos en torno al 8 de Marzo:\nTERUEL\n\nHUESCA\n\nZARAGOZA\n\n\nBUSCA EN
  ESTE MAPA TODAS LAS MOVILIZACIONES\n
ATTACH;FMTTYPE=image/jpeg:https://aragonsolidario.org/wp-content/uploads/2
 025/03/8mZGZ25.webp
CATEGORIES:Otras entidades
LOCATION:https://www.instagram.com/p/DGtOxWiICIQ/
END:VEVENT
BEGIN:VTIMEZONE
TZID:Europe/Madrid
X-LIC-LOCATION:Europe/Madrid
BEGIN:STANDARD
DTSTART:20241027T020000
TZOFFSETFROM:+0200
TZOFFSETTO:+0100
TZNAME:CET
END:STANDARD
END:VTIMEZONE
END:VCALENDAR