BEGIN:VCALENDAR
VERSION:2.0
PRODID:-//wp-events-plugin.com//7.2.3.1//EN
TZID:Europe/Madrid
X-WR-TIMEZONE:Europe/Madrid
BEGIN:VEVENT
UID:505@aragonsolidario.org
DTSTART;TZID=Europe/Madrid:20251030T180000
DTEND;TZID=Europe/Madrid:20251030T190000
DTSTAMP:20251020T085220Z
URL:https://aragonsolidario.org/eventos/25-ani-juan-bonal-zgz
SUMMARY:Celebración del 25º aniversario de la Fundación Juan Bonal en Za
 ragoza
DESCRIPTION:El próximo jueves 30 de octubre\, Fundación Juan Bonal celebr
 a su 25º aniversario en el Patio de la Infanta. El acto estará presentad
 o por Juanjo Hernández y contará con los testimonios de la Hna. Savita P
 armar y de las voluntarias Beatriz M. López Penella y María Pilar Brusel
  Mastral\, así como la actuación del coro del Colegio Santa Ana. Desde l
 as 17:30 h se podrá visitar una pequeña muestra del espacio solidario y\
 , al finalizar\, se ofrecerá un cóctel informal.
ATTACH;FMTTYPE=image/jpeg:https://aragonsolidario.org/wp-content/uploads/2
 025/10/post-INVITACION-GALA-zaragoza.webp
CATEGORIES:ONGD FAS
LOCATION:Ibercaja Patio de la Infanta\, C. de San Ignacio de Loyola\, 16\, 
 Zaragoza\, Zaragoza\, 50008\, España
GEO:41.64646;-0.88456
X-APPLE-STRUCTURED-LOCATION;VALUE=URI;X-ADDRESS=C. de San Ignacio de Loyola
 \, 16\, Zaragoza\, Zaragoza\, 50008\, España;X-APPLE-RADIUS=100;X-TITLE=I
 bercaja Patio de la Infanta:geo:41.64646,-0.88456
END:VEVENT
BEGIN:VTIMEZONE
TZID:Europe/Madrid
X-LIC-LOCATION:Europe/Madrid
BEGIN:STANDARD
DTSTART:20251026T020000
TZOFFSETFROM:+0200
TZOFFSETTO:+0100
TZNAME:CET
END:STANDARD
END:VTIMEZONE
END:VCALENDAR